BEGIN:VCALENDAR
VERSION:2.0
PRODID:-//hacksw/handcal//NONSGML v1.0//EN
BEGIN:VEVENT
SUMMARY:REALBRIDGE 18 donnes - 2,5€
UID:cecd4955-b3b2-462e-b33b-855ca95945a5
DTSTART:20270128T190000Z
DTEND:20270128T210000Z
LOCATION:Localisation   
CATEGORIES:Sportif
STATUS:
URL;VALUE=URI:https://bridge-orleans.club.ffbridge.fr/evenements/2027/01/28/realbridge-18-donnes-25eur-2381080
END:VEVENT
END:VCALENDAR
