BEGIN:VCALENDAR
VERSION:2.0
PRODID:-//hacksw/handcal//NONSGML v1.0//EN
BEGIN:VEVENT
SUMMARY:Tournoi de regularite  Coupe des Clubs points doubles
UID:4b3cc08d-598b-4f7f-b161-3df81e91aa18
DTSTART:20241120T130000Z
DTEND:20241120T170000Z
LOCATION:Localisation   
CATEGORIES:Sportif
STATUS:
URL;VALUE=URI:https://bridge-orleans.club.ffbridge.fr/evenements/2024/11/20/tournoi-de-regularite-coupe-des-clubs-points-doubles-1943150
END:VEVENT
END:VCALENDAR
